BEGIN:VCALENDAR
VERSION:2.0
PRODID:-//Herzog-Tassilo-Grundschule Aiterhofen - ECPv6.3.4//NONSGML v1.0//EN
CALSCALE:GREGORIAN
METHOD:PUBLISH
X-ORIGINAL-URL:https://gs-aiterhofen.de
X-WR-CALDESC:Veranstaltungen für Herzog-Tassilo-Grundschule Aiterhofen
REFRESH-INTERVAL;VALUE=DURATION:PT1H
X-Robots-Tag:noindex
X-PUBLISHED-TTL:PT1H
BEGIN:VTIMEZONE
TZID:Europe/Berlin
BEGIN:DAYLIGHT
TZOFFSETFROM:+0100
TZOFFSETTO:+0200
TZNAME:CEST
DTSTART:20260329T010000
END:DAYLIGHT
BEGIN:STANDARD
TZOFFSETFROM:+0200
TZOFFSETTO:+0100
TZNAME:CET
DTSTART:20261025T010000
END:STANDARD
END:VTIMEZONE
BEGIN:VEVENT
DTSTART;VALUE=DATE:20260128
DTEND;VALUE=DATE:20260129
DTSTAMP:20260422T103621
CREATED:20260106T214538Z
LAST-MODIFIED:20260106T214538Z
UID:2370-1769558400-1769644799@gs-aiterhofen.de
SUMMARY:Schwimmen mit der Langgruppe OGT
DESCRIPTION:
URL:https://gs-aiterhofen.de/event/schwimmen-mit-der-langgruppe-ogt/
END:VEVENT
END:VCALENDAR